BEGIN:VCALENDAR
VERSION:2.0
PRODID:-//Maner Costerisan - ECPv6.0.8//NONSGML v1.0//EN
CALSCALE:GREGORIAN
METHOD:PUBLISH
X-WR-CALNAME:Maner Costerisan
X-ORIGINAL-URL:https://www.manercpa.com/dev
X-WR-CALDESC:Events for Maner Costerisan
REFRESH-INTERVAL;VALUE=DURATION:PT1H
X-Robots-Tag:noindex
X-PUBLISHED-TTL:PT1H
BEGIN:VTIMEZONE
TZID:America/Detroit
BEGIN:DAYLIGHT
TZOFFSETFROM:-0500
TZOFFSETTO:-0400
TZNAME:EDT
DTSTART:20210314T070000
END:DAYLIGHT
BEGIN:STANDARD
TZOFFSETFROM:-0400
TZOFFSETTO:-0500
TZNAME:EST
DTSTART:20211107T060000
END:STANDARD
END:VTIMEZONE
BEGIN:VEVENT
DTSTART;TZID=America/Detroit:20210921T110000
DTEND;TZID=America/Detroit:20210921T120000
DTSTAMP:20260423T171020
CREATED:20210826T171809Z
LAST-MODIFIED:20210826T171809Z
UID:4251-1632222000-1632225600@www.manercpa.com
SUMMARY:Nonprofit Virtual Round Table Discussion: Fundraising In A Semi-Post Pandemic World With Justin Remington\, The Remington Group
DESCRIPTION:Nonprofits are considering what fundraising will look like post pandemic. Join Justin to discuss trends and what others are doing as organizations ease into post-pandemic life and how supporting their mission in a time of transition. \nREGISTER
URL:https://www.manercpa.com/dev/event/nonprofit-virtual-round-table-discussion-fundraising-in-a-semi-post-pandemic-world-with-justin-remington-the-remington-group/
END:VEVENT
END:VCALENDAR