BEGIN:VCALENDAR
VERSION:2.0
PRODID:-//Maner Costerisan - ECPv6.0.8//NONSGML v1.0//EN
CALSCALE:GREGORIAN
METHOD:PUBLISH
X-WR-CALNAME:Maner Costerisan
X-ORIGINAL-URL:https://www.manercpa.com/dev
X-WR-CALDESC:Events for Maner Costerisan
REFRESH-INTERVAL;VALUE=DURATION:PT1H
X-Robots-Tag:noindex
X-PUBLISHED-TTL:PT1H
BEGIN:VTIMEZONE
TZID:America/Detroit
BEGIN:DAYLIGHT
TZOFFSETFROM:-0500
TZOFFSETTO:-0400
TZNAME:EDT
DTSTART:20210314T070000
END:DAYLIGHT
BEGIN:STANDARD
TZOFFSETFROM:-0400
TZOFFSETTO:-0500
TZNAME:EST
DTSTART:20211107T060000
END:STANDARD
END:VTIMEZONE
BEGIN:VEVENT
DTSTART;TZID=America/Detroit:20210922T110000
DTEND;TZID=America/Detroit:20210922T120000
DTSTAMP:20260423T170905
CREATED:20210826T171916Z
LAST-MODIFIED:20210826T171916Z
UID:4253-1632308400-1632312000@www.manercpa.com
SUMMARY:Progressus Global Software Product Overview
DESCRIPTION:Join us for a quick overview of selected products from Progressus Global Software to enhance your use of Dynamics 265 Business Central. \nREGISTER
URL:https://www.manercpa.com/dev/event/progressus-global-software-product-overview/
END:VEVENT
END:VCALENDAR