BEGIN:VCALENDAR
VERSION:2.0
PRODID:-//Maner Costerisan - ECPv6.0.8//NONSGML v1.0//EN
CALSCALE:GREGORIAN
METHOD:PUBLISH
X-ORIGINAL-URL:https://www.manercpa.com/dev
X-WR-CALDESC:Events for Maner Costerisan
REFRESH-INTERVAL;VALUE=DURATION:PT1H
X-Robots-Tag:noindex
X-PUBLISHED-TTL:PT1H
BEGIN:VTIMEZONE
TZID:America/Detroit
BEGIN:DAYLIGHT
TZOFFSETFROM:-0500
TZOFFSETTO:-0400
TZNAME:EDT
DTSTART:20210314T070000
END:DAYLIGHT
BEGIN:STANDARD
TZOFFSETFROM:-0400
TZOFFSETTO:-0500
TZNAME:EST
DTSTART:20211107T060000
END:STANDARD
END:VTIMEZONE
BEGIN:VEVENT
DTSTART;TZID=America/Detroit:20210923T110000
DTEND;TZID=America/Detroit:20210923T120000
DTSTAMP:20260423T171026
CREATED:20210826T172020Z
LAST-MODIFIED:20210826T172020Z
UID:4255-1632394800-1632398400@www.manercpa.com
SUMMARY:Sage Intacct Approvals Webinar
DESCRIPTION:Join this session for an overview of Sage Intacct’s approval functionalities! Approve purchases\, payments\, journal entries and more from anywhere and with full auditability to get away from traditional email and paper-based processes. \nREGISTER
URL:https://www.manercpa.com/dev/event/sage-intacct-approvals-webinar/
END:VEVENT
END:VCALENDAR