BEGIN:VCALENDAR
VERSION:2.0
PRODID:-//Maner Costerisan - ECPv6.0.8//NONSGML v1.0//EN
CALSCALE:GREGORIAN
METHOD:PUBLISH
X-WR-CALNAME:Maner Costerisan
X-ORIGINAL-URL:https://www.manercpa.com/dev
X-WR-CALDESC:Events for Maner Costerisan
REFRESH-INTERVAL;VALUE=DURATION:PT1H
X-Robots-Tag:noindex
X-PUBLISHED-TTL:PT1H
BEGIN:VTIMEZONE
TZID:America/Detroit
BEGIN:DAYLIGHT
TZOFFSETFROM:-0500
TZOFFSETTO:-0400
TZNAME:EDT
DTSTART:20210314T070000
END:DAYLIGHT
BEGIN:STANDARD
TZOFFSETFROM:-0400
TZOFFSETTO:-0500
TZNAME:EST
DTSTART:20211107T060000
END:STANDARD
END:VTIMEZONE
BEGIN:VEVENT
DTSTART;TZID=America/Detroit:20211019T110000
DTEND;TZID=America/Detroit:20211019T120000
DTSTAMP:20260423T202843
CREATED:20210826T172217Z
LAST-MODIFIED:20210826T172252Z
UID:4259-1634641200-1634644800@www.manercpa.com
SUMMARY:Nonprofit Virtual Round Table Discussion - October
DESCRIPTION:Nonprofit Advocacy: Helping Leaders Know How to be Positive\, Powerful Advocates for Their Cause with Barb Whitney\, Executive Director of Lansing Arts Council. \nREGISTER
URL:https://www.manercpa.com/dev/event/nonprofit-virtual-round-table-discussion-october/
END:VEVENT
END:VCALENDAR