BEGIN:VCALENDAR
VERSION:2.0
PRODID:-//Maner Costerisan - ECPv6.0.8//NONSGML v1.0//EN
CALSCALE:GREGORIAN
METHOD:PUBLISH
X-WR-CALNAME:Maner Costerisan
X-ORIGINAL-URL:https://www.manercpa.com/dev
X-WR-CALDESC:Events for Maner Costerisan
REFRESH-INTERVAL;VALUE=DURATION:PT1H
X-Robots-Tag:noindex
X-PUBLISHED-TTL:PT1H
BEGIN:VTIMEZONE
TZID:America/Detroit
BEGIN:DAYLIGHT
TZOFFSETFROM:-0500
TZOFFSETTO:-0400
TZNAME:EDT
DTSTART:20210314T070000
END:DAYLIGHT
BEGIN:STANDARD
TZOFFSETFROM:-0400
TZOFFSETTO:-0500
TZNAME:EST
DTSTART:20211107T060000
END:STANDARD
END:VTIMEZONE
BEGIN:VEVENT
DTSTART;TZID=America/Detroit:20211109T180000
DTEND;TZID=America/Detroit:20211109T190000
DTSTAMP:20260423T234013
CREATED:20210914T202837Z
LAST-MODIFIED:20210914T203057Z
UID:5292-1636480800-1636484400@www.manercpa.com
SUMMARY:2021 Year-End Business Tax Planning Seminar
DESCRIPTION:Join Maner Costerisan tax experts as they aim to simplify the complexities surrounding business tax planning for the upcoming tax year. The team will highlight important tax credits and opportunities to optimize your business’ tax savings before year-end\, and will discuss the latest proposed tax changes to help your business prepare for updates. Brought to you by MSUFCU and presented by Maner Costerisan. \nREGISTER
URL:https://www.manercpa.com/dev/event/2021-year-end-business-tax-planning-seminar/
END:VEVENT
END:VCALENDAR