BEGIN:VCALENDAR
VERSION:2.0
PRODID:-//Maner Costerisan - ECPv6.0.8//NONSGML v1.0//EN
CALSCALE:GREGORIAN
METHOD:PUBLISH
X-WR-CALNAME:Maner Costerisan
X-ORIGINAL-URL:https://www.manercpa.com/dev
X-WR-CALDESC:Events for Maner Costerisan
REFRESH-INTERVAL;VALUE=DURATION:PT1H
X-Robots-Tag:noindex
X-PUBLISHED-TTL:PT1H
BEGIN:VTIMEZONE
TZID:America/Detroit
BEGIN:DAYLIGHT
TZOFFSETFROM:-0500
TZOFFSETTO:-0400
TZNAME:EDT
DTSTART:20210314T070000
END:DAYLIGHT
BEGIN:STANDARD
TZOFFSETFROM:-0400
TZOFFSETTO:-0500
TZNAME:EST
DTSTART:20211107T060000
END:STANDARD
END:VTIMEZONE
BEGIN:VEVENT
DTSTART;VALUE=DATE:20211224
DTEND;VALUE=DATE:20211225
DTSTAMP:20260424T174404
CREATED:20211215T164443Z
LAST-MODIFIED:20211215T164459Z
UID:5768-1640304000-1640390399@www.manercpa.com
SUMMARY:Christmas Day Observed - Office Closed
DESCRIPTION:
URL:https://www.manercpa.com/dev/event/christmas-day-observed/
END:VEVENT
END:VCALENDAR