BEGIN:VCALENDAR
VERSION:2.0
PRODID:-//Maner Costerisan - ECPv6.0.8//NONSGML v1.0//EN
CALSCALE:GREGORIAN
METHOD:PUBLISH
X-WR-CALNAME:Maner Costerisan
X-ORIGINAL-URL:https://www.manercpa.com/dev
X-WR-CALDESC:Events for Maner Costerisan
REFRESH-INTERVAL;VALUE=DURATION:PT1H
X-Robots-Tag:noindex
X-PUBLISHED-TTL:PT1H
BEGIN:VTIMEZONE
TZID:America/Detroit
BEGIN:DAYLIGHT
TZOFFSETFROM:-0500
TZOFFSETTO:-0400
TZNAME:EDT
DTSTART:20220313T070000
END:DAYLIGHT
BEGIN:STANDARD
TZOFFSETFROM:-0400
TZOFFSETTO:-0500
TZNAME:EST
DTSTART:20221106T060000
END:STANDARD
END:VTIMEZONE
BEGIN:VEVENT
DTSTART;TZID=America/Detroit:20221206T100000
DTEND;TZID=America/Detroit:20221206T110000
DTSTAMP:20260419T122653
CREATED:20221014T174050Z
LAST-MODIFIED:20221014T174050Z
UID:7228-1670320800-1670324400@www.manercpa.com
SUMMARY:Year-End Payroll Planning with Maner Costerisan
DESCRIPTION:Join our payroll specialists for a virtual discussion\, and Q&A session focused on year-end payroll planning\, issues\, reminders\, and changes you need to know. Among the topics in the conversation will be an overview of recent changes to payroll guidelines and rules\, provisions related to payroll tax law\, remote workers’ impact on your payroll\, and more. \nRSVP HERE
URL:https://www.manercpa.com/dev/event/year-end-payroll-planning-with-maner-costerisan/
END:VEVENT
END:VCALENDAR