BEGIN:VCALENDAR
VERSION:2.0
PRODID:-//Maner Costerisan - ECPv6.0.8//NONSGML v1.0//EN
CALSCALE:GREGORIAN
METHOD:PUBLISH
X-ORIGINAL-URL:https://www.manercpa.com/dev
X-WR-CALDESC:Events for Maner Costerisan
REFRESH-INTERVAL;VALUE=DURATION:PT1H
X-Robots-Tag:noindex
X-PUBLISHED-TTL:PT1H
BEGIN:VTIMEZONE
TZID:America/Detroit
BEGIN:DAYLIGHT
TZOFFSETFROM:-0500
TZOFFSETTO:-0400
TZNAME:EDT
DTSTART:20210314T070000
END:DAYLIGHT
BEGIN:STANDARD
TZOFFSETFROM:-0400
TZOFFSETTO:-0500
TZNAME:EST
DTSTART:20211107T060000
END:STANDARD
END:VTIMEZONE
BEGIN:VEVENT
DTSTART;TZID=America/Detroit:20211109T180000
DTEND;TZID=America/Detroit:20211109T190000
DTSTAMP:20260423T103717
CREATED:20210914T202837Z
LAST-MODIFIED:20210914T203057Z
UID:5292-1636480800-1636484400@www.manercpa.com
SUMMARY:2021 Year-End Business Tax Planning Seminar
DESCRIPTION:Join Maner Costerisan tax experts as they aim to simplify the complexities surrounding business tax planning for the upcoming tax year. The team will highlight important tax credits and opportunities to optimize your business’ tax savings before year-end\, and will discuss the latest proposed tax changes to help your business prepare for updates. Brought to you by MSUFCU and presented by Maner Costerisan. \nREGISTER
URL:https://www.manercpa.com/dev/event/2021-year-end-business-tax-planning-seminar/
END:VEVENT
BEGIN:VEVENT
DTSTART;TZID=America/Detroit:20211117T100000
DTEND;TZID=America/Detroit:20211117T110000
DTSTAMP:20260423T103717
CREATED:20211022T143924Z
LAST-MODIFIED:20211022T143924Z
UID:5540-1637143200-1637146800@www.manercpa.com
SUMMARY:Year-End Tax Planning Webinar
DESCRIPTION:Join Maner Costerisan tax experts as they aim to simplify the complexities surrounding business and individual tax planning for the upcoming tax year. In addition\, the team will highlight important tax credits and opportunities to optimize your tax savings before year-end and will discuss the latest proposed tax changes to help you prepare for updates. \nREGISTER TODAY
URL:https://www.manercpa.com/dev/event/year-end-tax-planning-webinar/
END:VEVENT
BEGIN:VEVENT
DTSTART;TZID=America/Detroit:20211130T093000
DTEND;TZID=America/Detroit:20211130T103000
DTSTAMP:20260423T103717
CREATED:20211022T143559Z
LAST-MODIFIED:20211117T184008Z
UID:5538-1638264600-1638268200@www.manercpa.com
SUMMARY:Payroll Year-End 2021 and 2022 Prep Webinar
DESCRIPTION:Navigating the payroll complexities of the last year has been challenging\, particularly with COVID-19 provisions impacting many areas of personnel compensation and benefits. The team at Maner can help prepare you for year-end processes and preview what’s on the horizon heading into the new year. \nJoin our payroll specialists on Tuesday\, November 30\, for a session focused on year-end payroll issues\, reminders\, and changes you need to know. \nWhy should you attend? \n\nReceive an update on recent changes to 2021 and 2022 guidelines and rules.\nLearn about recent changes to IRS forms\, such as W-4\, 941\, and 941-X.\nHear how COVID-19-related provisions in the payroll tax law may continue to impact your business.\nLearn which employee benefits should be included on W-2’s and other payroll tax returns.\nGain clarity on how to navigate the impact remote workers have on your payroll.\nLearn the 1099 requirements for common types of vendor payments.\n\n Register Today\n 
URL:https://www.manercpa.com/dev/event/payroll-year-end-2021-and-2022-prep-webinar/
END:VEVENT
END:VCALENDAR