BEGIN:VCALENDAR
VERSION:2.0
PRODID:-//Maner Costerisan - ECPv6.0.8//NONSGML v1.0//EN
CALSCALE:GREGORIAN
METHOD:PUBLISH
X-ORIGINAL-URL:https://www.manercpa.com/dev
X-WR-CALDESC:Events for Maner Costerisan
REFRESH-INTERVAL;VALUE=DURATION:PT1H
X-Robots-Tag:noindex
X-PUBLISHED-TTL:PT1H
BEGIN:VTIMEZONE
TZID:America/Detroit
BEGIN:DAYLIGHT
TZOFFSETFROM:-0500
TZOFFSETTO:-0400
TZNAME:EDT
DTSTART:20210314T070000
END:DAYLIGHT
BEGIN:STANDARD
TZOFFSETFROM:-0400
TZOFFSETTO:-0500
TZNAME:EST
DTSTART:20211107T060000
END:STANDARD
END:VTIMEZONE
BEGIN:VEVENT
DTSTART;TZID=America/Detroit:20211215T100000
DTEND;TZID=America/Detroit:20211215T110000
DTSTAMP:20260419T122816
CREATED:20211117T133709Z
LAST-MODIFIED:20211117T171726Z
UID:5681-1639562400-1639566000@www.manercpa.com
SUMMARY:Building Your Roadmap to the Cloud – A Special Webinar for Microsoft CSP Program Participants
DESCRIPTION:Discover how making a move from Dynamics GP to Microsoft Dynamics 365 Business Central can help your organization secure its financial data\, increase reporting capabilities and access to data in real-time during a brief webinar designed especially for Microsoft CSP program participants Wednesday\, Dec. 15 at 10 a.m. \nOur team of Microsoft experts will provide a guided tour of Business Central and discuss options to help your business build its path to the cloud. \nRegister for the webinar today. \nHave questions in the meantime? Contact Kate Watts\, Client Service Manager.
URL:https://www.manercpa.com/dev/event/building-your-roadmap-to-the-cloud-a-special-webinar-for-microsoft-csp-program-participants/
END:VEVENT
BEGIN:VEVENT
DTSTART;TZID=America/Detroit:20211221T110000
DTEND;TZID=America/Detroit:20211221T120000
DTSTAMP:20260419T122816
CREATED:20210826T172458Z
LAST-MODIFIED:20211028T150547Z
UID:4264-1640084400-1640088000@www.manercpa.com
SUMMARY:Nonprofit Virtual Round Table Discussion - December
DESCRIPTION:Nonprofit Virtual Round Table Discussion \nREGISTER
URL:https://www.manercpa.com/dev/event/nonprofit-virtual-round-table-discussion-december/
END:VEVENT
BEGIN:VEVENT
DTSTART;VALUE=DATE:20211223
DTEND;VALUE=DATE:20211224
DTSTAMP:20260419T122816
CREATED:20211215T164320Z
LAST-MODIFIED:20211215T164355Z
UID:5766-1640217600-1640303999@www.manercpa.com
SUMMARY:Christmas Eve Observed - Office Closed
DESCRIPTION:
URL:https://www.manercpa.com/dev/event/christmas-eve-observed-office-closed/
END:VEVENT
BEGIN:VEVENT
DTSTART;VALUE=DATE:20211224
DTEND;VALUE=DATE:20211225
DTSTAMP:20260419T122816
CREATED:20211215T164443Z
LAST-MODIFIED:20211215T164459Z
UID:5768-1640304000-1640390399@www.manercpa.com
SUMMARY:Christmas Day Observed - Office Closed
DESCRIPTION:
URL:https://www.manercpa.com/dev/event/christmas-day-observed/
END:VEVENT
BEGIN:VEVENT
DTSTART;VALUE=DATE:20211231
DTEND;VALUE=DATE:20220101
DTSTAMP:20260419T122816
CREATED:20211215T164525Z
LAST-MODIFIED:20211215T164525Z
UID:5771-1640908800-1640995199@www.manercpa.com
SUMMARY:New Year's Day Observed - Office Closed
DESCRIPTION:
URL:https://www.manercpa.com/dev/event/new-years-day-observed-office-closed/
END:VEVENT
END:VCALENDAR